BEGIN:VCALENDAR
VERSION:2.0
PRODID:-//Sabre//Sabre VObject 3.5.3//EN
CALSCALE:GREGORIAN
BEGIN:VTIMEZONE
TZID:Europe/London
BEGIN:STANDARD
TZNAME:GMT
DTSTART:19701025T020000
RRULE:FREQ=YEARLY;BYMONTH=10;BYDAY=-1SU
TZOFFSETFROM:+0100
TZOFFSETTO:+0000
END:STANDARD
BEGIN:DAYLIGHT
TZNAME:BST
DTSTART:19700329T010000
RRULE:FREQ=YEARLY;BYMONTH=3;BYDAY=-1SU
TZOFFSETFROM:+0000
TZOFFSETTO:+0100
END:DAYLIGHT
END:VTIMEZONE
BEGIN:VEVENT
UID:event_310450@stalbanschoralsociety.org
DTSTART;TZID=Europe/London:20261114T193000
DTEND;TZID=Europe/London:20261114T213000
SUMMARY:St Albans Choral Society: Nov 2026 Concert
DESCRIPTION:English and French Gems\nVierne\, Faure\, Boulanger\, Holst\, V
 aughan-Williams\n\nFor full event details\, visit: https://www.stalbanscho
 ralsociety.org/dbpage.php?pg=view&dbase=events&id=310450
LOCATION:St Peter's Church\, St Peter's Street\, St Albans\, AL1 3HG
URL:https://www.stalbanschoralsociety.org/dbpage.php?pg=view&dbase=events&i
 d=310450
END:VEVENT
END:VCALENDAR
