BEGIN:VCALENDAR
VERSION:2.0
PRODID:-//Sabre//Sabre VObject 3.5.3//EN
CALSCALE:GREGORIAN
BEGIN:VTIMEZONE
TZID:Europe/London
BEGIN:STANDARD
TZNAME:GMT
DTSTART:19701025T020000
RRULE:FREQ=YEARLY;BYMONTH=10;BYDAY=-1SU
TZOFFSETFROM:+0100
TZOFFSETTO:+0000
END:STANDARD
BEGIN:DAYLIGHT
TZNAME:BST
DTSTART:19700329T010000
RRULE:FREQ=YEARLY;BYMONTH=3;BYDAY=-1SU
TZOFFSETFROM:+0000
TZOFFSETTO:+0100
END:DAYLIGHT
END:VTIMEZONE
BEGIN:VEVENT
UID:event_196038@stalbanschoralsociety.org
DTSTART;TZID=Europe/London:20260620T193000
DTEND;TZID=Europe/London:20260620T213000
SUMMARY:St Albans Choral Society: June 2026 Concert
DESCRIPTION:&quot\;Two By Two&quot\;\n\nBenjamin Britten&nbsp\;&nbsp\;&nbsp
 \;Rejoice in the Lamb\nHarry Baker&nbsp\;&nbsp\;&nbsp\;Three Teasdale Poem
 s\nEric Whitacre&nbsp\;&nbsp\;&nbsp\;Animal Crackers Vol 1 &amp\; 2\nJosep
 h Horowitz&nbsp\;&nbsp\;&nbsp\;Captain Noah and his Floating Zoo\n\nFor fu
 ll event details\, visit: https://www.stalbanschoralsociety.org/dbpage.php
 ?pg=view&dbase=events&id=196038
LOCATION:St Peter's Church\, St Peter's Street\, St Albans\, AL1 3HG
URL:https://www.stalbanschoralsociety.org/dbpage.php?pg=view&dbase=events&i
 d=196038
END:VEVENT
END:VCALENDAR
